BEGIN:VCALENDAR
VERSION:2.0
PRODID:-//ELC - ECPv6.15.20//NONSGML v1.0//EN
CALSCALE:GREGORIAN
METHOD:PUBLISH
X-WR-CALNAME:ELC
X-ORIGINAL-URL:https://www.elc1950.nl
X-WR-CALDESC:Evenementen voor ELC
REFRESH-INTERVAL;VALUE=DURATION:PT1H
X-Robots-Tag:noindex
X-PUBLISHED-TTL:PT1H
BEGIN:VTIMEZONE
TZID:Europe/Amsterdam
BEGIN:DAYLIGHT
TZOFFSETFROM:+0100
TZOFFSETTO:+0200
TZNAME:CEST
DTSTART:20180325T010000
END:DAYLIGHT
BEGIN:STANDARD
TZOFFSETFROM:+0200
TZOFFSETTO:+0100
TZNAME:CET
DTSTART:20181028T010000
END:STANDARD
BEGIN:DAYLIGHT
TZOFFSETFROM:+0100
TZOFFSETTO:+0200
TZNAME:CEST
DTSTART:20190331T010000
END:DAYLIGHT
BEGIN:STANDARD
TZOFFSETFROM:+0200
TZOFFSETTO:+0100
TZNAME:CET
DTSTART:20191027T010000
END:STANDARD
BEGIN:DAYLIGHT
TZOFFSETFROM:+0100
TZOFFSETTO:+0200
TZNAME:CEST
DTSTART:20200329T010000
END:DAYLIGHT
BEGIN:STANDARD
TZOFFSETFROM:+0200
TZOFFSETTO:+0100
TZNAME:CET
DTSTART:20201025T010000
END:STANDARD
END:VTIMEZONE
BEGIN:VEVENT
DTSTART;TZID=Europe/Amsterdam:20190104T193000
DTEND;TZID=Europe/Amsterdam:20190104T230000
DTSTAMP:20260424T221328
CREATED:20151223T160054Z
LAST-MODIFIED:20190104T134501Z
UID:513-1546630200-1546642800@www.elc1950.nl
SUMMARY:Nieuwjaarsborrel
DESCRIPTION:Op 4 januari gaan we weer gezellig met ons allen het nieuwe jaar inluiden.\nDeze avond is uiteraard niet alleen voor leden maar ook voor familie en andere kennissen. \nVoor wie nog geen lid is en op zoek is naar een nieuwe hobby om mee te beginnen in 2019\, hopen wij jullie dit jaar op een van onze clubavonden te mogen begroeten.
URL:https://www.elc1950.nl/evenementen/nieuwjaarsborrel/
LOCATION:De Cockpit\, Sijsseltselaan 14\, Ede\, 6711 JE\, Nederland
ATTACH;FMTTYPE=image/jpeg:https://www.elc1950.nl/wp-content/uploads/2015/12/img_0536.jpg
END:VEVENT
END:VCALENDAR