BEGIN:VCALENDAR
VERSION:2.0
PRODID:-//ELC - ECPv6.15.20//NONSGML v1.0//EN
CALSCALE:GREGORIAN
METHOD:PUBLISH
X-ORIGINAL-URL:https://www.elc1950.nl
X-WR-CALDESC:Evenementen voor ELC
REFRESH-INTERVAL;VALUE=DURATION:PT1H
X-Robots-Tag:noindex
X-PUBLISHED-TTL:PT1H
BEGIN:VTIMEZONE
TZID:Europe/Amsterdam
BEGIN:DAYLIGHT
TZOFFSETFROM:+0100
TZOFFSETTO:+0200
TZNAME:CEST
DTSTART:20180325T010000
END:DAYLIGHT
BEGIN:STANDARD
TZOFFSETFROM:+0200
TZOFFSETTO:+0100
TZNAME:CET
DTSTART:20181028T010000
END:STANDARD
BEGIN:DAYLIGHT
TZOFFSETFROM:+0100
TZOFFSETTO:+0200
TZNAME:CEST
DTSTART:20190331T010000
END:DAYLIGHT
BEGIN:STANDARD
TZOFFSETFROM:+0200
TZOFFSETTO:+0100
TZNAME:CET
DTSTART:20191027T010000
END:STANDARD
BEGIN:DAYLIGHT
TZOFFSETFROM:+0100
TZOFFSETTO:+0200
TZNAME:CEST
DTSTART:20200329T010000
END:DAYLIGHT
BEGIN:STANDARD
TZOFFSETFROM:+0200
TZOFFSETTO:+0100
TZNAME:CET
DTSTART:20201025T010000
END:STANDARD
END:VTIMEZONE
BEGIN:VEVENT
DTSTART;TZID=Europe/Amsterdam:20190331T140000
DTEND;TZID=Europe/Amsterdam:20190331T170000
DTSTAMP:20260424T195425
CREATED:20160319T205846Z
LAST-MODIFIED:20190323T103433Z
UID:545-1554040800-1554051600@www.elc1950.nl
SUMMARY:Concours d'Elégance 2019
DESCRIPTION:Dit weekeinde start traditioneel de opening van het ELC vliegseizoen 2019 met het Concours d’Elégance en wel op zondag 31 maart vanaf 13:00 tot ca. 17:00 op de club. De club is dan open voor iedereen die dit leuk vindt. Het bestuur maakt er een leuke middag van en er zal genoeg te zien zijn. Opgegeven modellen dienen vrijdagavond te worden ingeleverd en opgebouwd in het bouwlokaal. De modellen worden zaterdag gekeurd en zondag is de prijsuitreiking voor de winnaars van het concours. Vrijdagavond kan niet gebouwd worden omdat het bouwlokaal opgeruimd en ingericht moet worden.
URL:https://www.elc1950.nl/evenementen/concours-delegance/
LOCATION:De Cockpit\, Sijsseltselaan 14\, Ede\, 6711 JE\, Nederland
ATTACH;FMTTYPE=image/jpeg:https://www.elc1950.nl/wp-content/uploads/2016/03/IMG_8349-e1551644270146.jpg
END:VEVENT
END:VCALENDAR