BEGIN:VCALENDAR
VERSION:2.0
PRODID:-//ELC - ECPv6.15.20//NONSGML v1.0//EN
CALSCALE:GREGORIAN
METHOD:PUBLISH
X-ORIGINAL-URL:https://www.elc1950.nl
X-WR-CALDESC:Evenementen voor ELC
REFRESH-INTERVAL;VALUE=DURATION:PT1H
X-Robots-Tag:noindex
X-PUBLISHED-TTL:PT1H
BEGIN:VTIMEZONE
TZID:Europe/Amsterdam
BEGIN:DAYLIGHT
TZOFFSETFROM:+0100
TZOFFSETTO:+0200
TZNAME:CEST
DTSTART:20180325T010000
END:DAYLIGHT
BEGIN:STANDARD
TZOFFSETFROM:+0200
TZOFFSETTO:+0100
TZNAME:CET
DTSTART:20181028T010000
END:STANDARD
BEGIN:DAYLIGHT
TZOFFSETFROM:+0100
TZOFFSETTO:+0200
TZNAME:CEST
DTSTART:20190331T010000
END:DAYLIGHT
BEGIN:STANDARD
TZOFFSETFROM:+0200
TZOFFSETTO:+0100
TZNAME:CET
DTSTART:20191027T010000
END:STANDARD
BEGIN:DAYLIGHT
TZOFFSETFROM:+0100
TZOFFSETTO:+0200
TZNAME:CEST
DTSTART:20200329T010000
END:DAYLIGHT
BEGIN:STANDARD
TZOFFSETFROM:+0200
TZOFFSETTO:+0100
TZNAME:CET
DTSTART:20201025T010000
END:STANDARD
END:VTIMEZONE
BEGIN:VEVENT
DTSTART;VALUE=DATE:20190404
DTEND;VALUE=DATE:20190408
DTSTAMP:20260424T183319
CREATED:20180219T155009Z
LAST-MODIFIED:20190227T115743Z
UID:996-1554336000-1554681599@www.elc1950.nl
SUMMARY:Intermodellbau Messe Dortmund
DESCRIPTION:Een van de grootste modelbouw beurzen net over de grens in Duitsland.\nVoor meer info klik hier.
URL:https://www.elc1950.nl/evenementen/intermodellbau-messe-dortmund/
LOCATION:Messe Westfallenhallen\, Strobelallee 45\, Dortmund\, Duitsland
ATTACH;FMTTYPE=image/jpeg:https://www.elc1950.nl/wp-content/uploads/2018/02/Logo_INTERMODELLBAU.jpg
END:VEVENT
BEGIN:VEVENT
DTSTART;TZID=Europe/Amsterdam:20190406T090000
DTEND;TZID=Europe/Amsterdam:20190406T170000
DTSTAMP:20260424T183319
CREATED:20190403T122851Z
LAST-MODIFIED:20190404T100518Z
UID:1197-1554541200-1554570000@www.elc1950.nl
SUMMARY:ELC RC Zweef 1e wedstrijd
DESCRIPTION:Club wedstrijd RC Zweef 1e wedstrijd van het nieuwe seizoen 2019. \nOpgave voor de wedstrijd uiterlijk vrijdag ervoor. \nEvenals voorgaande jaren kan en mag er met alles meegevlogen worden\, zolang het model is voorzien van een starthaak\, en aan de lijn (lier) gestart kan worden.\nHout\, kunststof\, schuim\, alles is welkom. \nVolgende wedstrijden RC Zweef staan gepland op: 11-5-2019\, 8-6-2019\, 7-9-2019 en als reserve datum 5-10-2019
URL:https://www.elc1950.nl/evenementen/elc-rc-zweef-1e-wedstrijd/
LOCATION:Vliegveld ELC\, 51.9490051\, 5.8716493 to Vliegveld ELC\, Ginkelseweg\, Ede\, Ede\, Nederland
END:VEVENT
BEGIN:VEVENT
DTSTART;TZID=Europe/Amsterdam:20190413T090000
DTEND;TZID=Europe/Amsterdam:20190413T170000
DTSTAMP:20260424T183319
CREATED:20190403T123446Z
LAST-MODIFIED:20190403T125242Z
UID:1200-1555146000-1555174800@www.elc1950.nl
SUMMARY:ELC Electrozweef 1e wedstrijd
DESCRIPTION:Eerste electrozweef wedstrijd van het nieuwe seizoen 2019 \nVolgende electrozweef wedstrijden staan gepland op 25-5-2019\, 15-6-2019\, 1e reserve datum 29-6-2019\, 14-9-2019 en 2e reserve datum 12-10-2019
URL:https://www.elc1950.nl/evenementen/elc-electrozweef-1e-wedstrijd/
LOCATION:Vliegveld ELC\, 51.9490051\, 5.8716493 to Vliegveld ELC\, Ginkelseweg\, Ede\, Ede\, Nederland
END:VEVENT
END:VCALENDAR