BEGIN:VCALENDAR
VERSION:2.0
PRODID:-//ELC - ECPv6.15.20//NONSGML v1.0//EN
CALSCALE:GREGORIAN
METHOD:PUBLISH
X-ORIGINAL-URL:https://www.elc1950.nl
X-WR-CALDESC:Evenementen voor ELC
REFRESH-INTERVAL;VALUE=DURATION:PT1H
X-Robots-Tag:noindex
X-PUBLISHED-TTL:PT1H
BEGIN:VTIMEZONE
TZID:Europe/Amsterdam
BEGIN:DAYLIGHT
TZOFFSETFROM:+0100
TZOFFSETTO:+0200
TZNAME:CEST
DTSTART:20180325T010000
END:DAYLIGHT
BEGIN:STANDARD
TZOFFSETFROM:+0200
TZOFFSETTO:+0100
TZNAME:CET
DTSTART:20181028T010000
END:STANDARD
BEGIN:DAYLIGHT
TZOFFSETFROM:+0100
TZOFFSETTO:+0200
TZNAME:CEST
DTSTART:20190331T010000
END:DAYLIGHT
BEGIN:STANDARD
TZOFFSETFROM:+0200
TZOFFSETTO:+0100
TZNAME:CET
DTSTART:20191027T010000
END:STANDARD
BEGIN:DAYLIGHT
TZOFFSETFROM:+0100
TZOFFSETTO:+0200
TZNAME:CEST
DTSTART:20200329T010000
END:DAYLIGHT
BEGIN:STANDARD
TZOFFSETFROM:+0200
TZOFFSETTO:+0100
TZNAME:CET
DTSTART:20201025T010000
END:STANDARD
END:VTIMEZONE
BEGIN:VEVENT
DTSTART;TZID=Europe/Amsterdam:20190511T090000
DTEND;TZID=Europe/Amsterdam:20190511T170000
DTSTAMP:20260424T172149
CREATED:20190403T123706Z
LAST-MODIFIED:20190411T184002Z
UID:1202-1557565200-1557594000@www.elc1950.nl
SUMMARY:ELC RC Zweef 2e wedstrijd
DESCRIPTION:Club wedstrijd RC Zweef 2e wedstrijd van het seizoen 2019. \nOpgave voor de wedstrijd uiterlijk vrijdag ervoor. \nVolgende wedstrijden RC Zweef staan gepland op: 8-6-2019\, 7-9-2019 en als reserve datum 5-10-2019
URL:https://www.elc1950.nl/evenementen/elc-rc-zweef-2e-wedstrijd/
LOCATION:Vliegveld ELC\, 51.9490051\, 5.8716493 to Vliegveld ELC\, Ginkelseweg\, Ede\, Ede\, Nederland
ATTACH;FMTTYPE=image/jpeg:https://www.elc1950.nl/wp-content/uploads/2016/06/F5J.jpg
END:VEVENT
BEGIN:VEVENT
DTSTART;TZID=Europe/Amsterdam:20190525T090000
DTEND;TZID=Europe/Amsterdam:20190525T170000
DTSTAMP:20260424T172149
CREATED:20190403T124642Z
LAST-MODIFIED:20190403T125224Z
UID:1211-1558774800-1558803600@www.elc1950.nl
SUMMARY:ELC Electrozweef 2e wedstrijd
DESCRIPTION:Tweede electrozweef wedstrijd van het seizoen 2019 \nVolgende electrozweef wedstrijden staan gepland op 15-6-2019\, 1e reserve datum 29-6-2019\, 14-9-2019 en 2e reserve datum 12-10-2019
URL:https://www.elc1950.nl/evenementen/elc-electrozweef-2e-wedstrijd/
LOCATION:Vliegveld ELC\, 51.9490051\, 5.8716493 to Vliegveld ELC\, Ginkelseweg\, Ede\, Ede\, Nederland
END:VEVENT
BEGIN:VEVENT
DTSTART;TZID=Europe/Amsterdam:20190527T080000
DTEND;TZID=Europe/Amsterdam:20190602T170000
DTSTAMP:20260424T172149
CREATED:20190420T143426Z
LAST-MODIFIED:20240801T193242Z
UID:1276-1558944000-1559494800@www.elc1950.nl
SUMMARY:Texelkamp 2019
DESCRIPTION:Texelkamp 2019\n  \nHet aftellen is weer begonnen. \nOok dit jaar gaan we weer als 1 grote familie naar Texel.\nIntekenlijst ligt al klaar op de club.
URL:https://www.elc1950.nl/evenementen/texelkamp-2019/
LOCATION:Texelkamp\,  Slufterweg 2B\, De Cocksdorp\, 1795 KP\, Nederland
ATTACH;FMTTYPE=image/jpeg:https://www.elc1950.nl/wp-content/uploads/2016/06/Texel1.jpg
END:VEVENT
END:VCALENDAR