BEGIN:VCALENDAR
VERSION:2.0
PRODID:-//ELC - ECPv6.15.18//NONSGML v1.0//EN
CALSCALE:GREGORIAN
METHOD:PUBLISH
X-WR-CALNAME:ELC
X-ORIGINAL-URL:https://www.elc1950.nl
X-WR-CALDESC:Evenementen voor ELC
REFRESH-INTERVAL;VALUE=DURATION:PT1H
X-Robots-Tag:noindex
X-PUBLISHED-TTL:PT1H
BEGIN:VTIMEZONE
TZID:Europe/Amsterdam
BEGIN:DAYLIGHT
TZOFFSETFROM:+0100
TZOFFSETTO:+0200
TZNAME:CEST
DTSTART:20180325T010000
END:DAYLIGHT
BEGIN:STANDARD
TZOFFSETFROM:+0200
TZOFFSETTO:+0100
TZNAME:CET
DTSTART:20181028T010000
END:STANDARD
BEGIN:DAYLIGHT
TZOFFSETFROM:+0100
TZOFFSETTO:+0200
TZNAME:CEST
DTSTART:20190331T010000
END:DAYLIGHT
BEGIN:STANDARD
TZOFFSETFROM:+0200
TZOFFSETTO:+0100
TZNAME:CET
DTSTART:20191027T010000
END:STANDARD
BEGIN:DAYLIGHT
TZOFFSETFROM:+0100
TZOFFSETTO:+0200
TZNAME:CEST
DTSTART:20200329T010000
END:DAYLIGHT
BEGIN:STANDARD
TZOFFSETFROM:+0200
TZOFFSETTO:+0100
TZNAME:CET
DTSTART:20201025T010000
END:STANDARD
END:VTIMEZONE
BEGIN:VEVENT
DTSTART;VALUE=DATE:20190821
DTEND;VALUE=DATE:20190825
DTSTAMP:20260424T130501
CREATED:20190207T203903Z
LAST-MODIFIED:20190810T193625Z
UID:1164-1566345600-1566691199@www.elc1950.nl
SUMMARY:Wings Of Freedom 2019
DESCRIPTION:  \n  \nIn 2019 is het 75 jaar geleden dat Operatie Overlord\, de codenaam van de Westerse geallieerden\, op 6 juni 1944 is gestart om uiteindelijk West-Europa te bevrijden. Het zou uiteindelijk een heel gevecht zijn en Operatie Market Garden zou de geschiedenisboeken in gaan als de grootse luchtaanval ooit. \nOm de opmars goed te ondersteunen werden op diverse plaatsen tijdelijke vliegvelden aangelegd die heel slagvaardig bleken te zijn en een grote bijdrage hebben geleverd aan de bevrijding; dat is Wings of Freedom 2019. \n \nEven een korte terugblik van de show 2015\n\n  \nMet diverse activiteiten wordt het besef van vrijheid onder de aandacht gebracht en getoond aan het Nederlandse publiek door met elkaar 75 jaar vrijheid herinneren\, herdenken en vieren. \nOp deze dag is er een heus vliegveld aanwezig\, voorzien van een start-/landingsbaan en verkeerstoren. \nZo kan aan het begin van de Heideweek genoten worden van spectaculaire vliegshows\, verschillende demo’s en diverse activiteiten voor jong en oud. \nWings of Freedom wordt mogelijk gemaakt door Stichting Jan Hilgers Memorial Airshow\, haar vrijwilligers en sponsoren.\nVoor meer informatie over de stichting bezoekt https://www.vliegshowede.nl/ \nTer info:\nLijst met vliegtuigen die er te zien zullen zijn: https://www.vliegshowede.nl/nl/programma/vliegtuigen
URL:https://www.elc1950.nl/evenementen/wings-of-freedom-2019/
LOCATION:Vliegveld Wings of Freedom\, N224 32-36 De Klomp\, Ede
ATTACH;FMTTYPE=image/png:https://www.elc1950.nl/wp-content/uploads/2019/02/WingsOfFreedom2019.png
ORGANIZER;CN="Wings of Freedom":MAILTO:info@vliegshowede.nl
END:VEVENT
END:VCALENDAR