BEGIN:VCALENDAR
VERSION:2.0
PRODID:-//ELC - ECPv6.15.18//NONSGML v1.0//EN
CALSCALE:GREGORIAN
METHOD:PUBLISH
X-ORIGINAL-URL:https://www.elc1950.nl
X-WR-CALDESC:Evenementen voor ELC
REFRESH-INTERVAL;VALUE=DURATION:PT1H
X-Robots-Tag:noindex
X-PUBLISHED-TTL:PT1H
BEGIN:VTIMEZONE
TZID:Europe/Amsterdam
BEGIN:DAYLIGHT
TZOFFSETFROM:+0100
TZOFFSETTO:+0200
TZNAME:CEST
DTSTART:20180325T010000
END:DAYLIGHT
BEGIN:STANDARD
TZOFFSETFROM:+0200
TZOFFSETTO:+0100
TZNAME:CET
DTSTART:20181028T010000
END:STANDARD
BEGIN:DAYLIGHT
TZOFFSETFROM:+0100
TZOFFSETTO:+0200
TZNAME:CEST
DTSTART:20190331T010000
END:DAYLIGHT
BEGIN:STANDARD
TZOFFSETFROM:+0200
TZOFFSETTO:+0100
TZNAME:CET
DTSTART:20191027T010000
END:STANDARD
BEGIN:DAYLIGHT
TZOFFSETFROM:+0100
TZOFFSETTO:+0200
TZNAME:CEST
DTSTART:20200329T010000
END:DAYLIGHT
BEGIN:STANDARD
TZOFFSETFROM:+0200
TZOFFSETTO:+0100
TZNAME:CET
DTSTART:20201025T010000
END:STANDARD
END:VTIMEZONE
BEGIN:VEVENT
DTSTART;TZID=Europe/Amsterdam:20190907T090000
DTEND;TZID=Europe/Amsterdam:20190907T170000
DTSTAMP:20260424T114902
CREATED:20190403T124018Z
LAST-MODIFIED:20190403T124833Z
UID:1206-1567846800-1567875600@www.elc1950.nl
SUMMARY:ELC RC Zweef 4e wedstrijd
DESCRIPTION:Club wedstrijd RC Zweef 4e wedstrijd van het seizoen 2019. \nOpgave voor de wedstrijd uiterlijk vrijdag ervoor. \nVolgende wedstrijden RC Zweef staan gepland op: 7-9-2019 en als reserve datum 5-10-2019
URL:https://www.elc1950.nl/evenementen/elc-rc-zweef-4e-wedstrijd/
LOCATION:Vliegveld ELC\, 51.9490051\, 5.8716493 to Vliegveld ELC\, Ginkelseweg\, Ede\, Ede\, Nederland
END:VEVENT
BEGIN:VEVENT
DTSTART;VALUE=DATE:20190921
DTEND;VALUE=DATE:20190922
DTSTAMP:20260424T114902
CREATED:20190207T202452Z
LAST-MODIFIED:20190606T120219Z
UID:1160-1569024000-1569110399@www.elc1950.nl
SUMMARY:Airborne Luchtlandingen Ginkelse Heide Ede 2019
DESCRIPTION:75 jaar Slag om Arnhem\n \n75 jaar geleden landden de geallieerden in Normandië om Europa te bevrijden van de bezetter.\nIn september volgde Operatie Market Garden\, waar eveneens duizenden soldaten de sprong in het onbekende maakte.  \n\nOp zaterdag 21 september 2019 herdenken we deze gebeurtenissen op de Ginkelse Heide en springen opnieuw ruim 1000 para’s uit historische vliegtuigen.\nBlijf op de hoogte m.b.v. Facebook pagina 👉 Airborne Luchtlandingen en Herdenking 2019 – 75 jr Market Garden \n\nVoor extra info zie ook website 👉 Stichting Airborne herdenkingen \nAlgemene info van alles rondom Arnhem en Ede in het kader van de herdenkingen zie 👉 Airborne programma 2019
URL:https://www.elc1950.nl/evenementen/airborne-luchtlandingen-ginkelse-hei-ede-2019/
LOCATION:Ginkelse heide Ede
END:VEVENT
END:VCALENDAR