BEGIN:VCALENDAR
VERSION:2.0
PRODID:-//ELC - ECPv6.15.18//NONSGML v1.0//EN
CALSCALE:GREGORIAN
METHOD:PUBLISH
X-WR-CALNAME:ELC
X-ORIGINAL-URL:https://www.elc1950.nl
X-WR-CALDESC:Evenementen voor ELC
REFRESH-INTERVAL;VALUE=DURATION:PT1H
X-Robots-Tag:noindex
X-PUBLISHED-TTL:PT1H
BEGIN:VTIMEZONE
TZID:Europe/Amsterdam
BEGIN:DAYLIGHT
TZOFFSETFROM:+0100
TZOFFSETTO:+0200
TZNAME:CEST
DTSTART:20180325T010000
END:DAYLIGHT
BEGIN:STANDARD
TZOFFSETFROM:+0200
TZOFFSETTO:+0100
TZNAME:CET
DTSTART:20181028T010000
END:STANDARD
BEGIN:DAYLIGHT
TZOFFSETFROM:+0100
TZOFFSETTO:+0200
TZNAME:CEST
DTSTART:20190331T010000
END:DAYLIGHT
BEGIN:STANDARD
TZOFFSETFROM:+0200
TZOFFSETTO:+0100
TZNAME:CET
DTSTART:20191027T010000
END:STANDARD
BEGIN:DAYLIGHT
TZOFFSETFROM:+0100
TZOFFSETTO:+0200
TZNAME:CEST
DTSTART:20200329T010000
END:DAYLIGHT
BEGIN:STANDARD
TZOFFSETFROM:+0200
TZOFFSETTO:+0100
TZNAME:CET
DTSTART:20201025T010000
END:STANDARD
END:VTIMEZONE
BEGIN:VEVENT
DTSTART;TZID=Europe/Amsterdam:20191005T090000
DTEND;TZID=Europe/Amsterdam:20191005T170000
DTSTAMP:20260424T102313
CREATED:20190403T124151Z
LAST-MODIFIED:20190403T124349Z
UID:1208-1570266000-1570294800@www.elc1950.nl
SUMMARY:ELC RC Zweef wedstrijd
DESCRIPTION:Reserve datum club wedstrijd RC Zweef dit is ook mogelijk de laatste wedstrijd van het seizoen 2019. \nOpgave voor de wedstrijd uiterlijk vrijdag ervoor.
URL:https://www.elc1950.nl/evenementen/elc-rc-zweef-reserve-datum-3/
LOCATION:Vliegveld ELC\, 51.9490051\, 5.8716493 to Vliegveld ELC\, Ginkelseweg\, Ede\, Ede\, Nederland
END:VEVENT
END:VCALENDAR