BEGIN:VCALENDAR
VERSION:2.0
PRODID:-//ELC - ECPv6.15.18//NONSGML v1.0//EN
CALSCALE:GREGORIAN
METHOD:PUBLISH
X-WR-CALNAME:ELC
X-ORIGINAL-URL:https://www.elc1950.nl
X-WR-CALDESC:Evenementen voor ELC
REFRESH-INTERVAL;VALUE=DURATION:PT1H
X-Robots-Tag:noindex
X-PUBLISHED-TTL:PT1H
BEGIN:VTIMEZONE
TZID:Europe/Amsterdam
BEGIN:DAYLIGHT
TZOFFSETFROM:+0100
TZOFFSETTO:+0200
TZNAME:CEST
DTSTART:20190331T010000
END:DAYLIGHT
BEGIN:STANDARD
TZOFFSETFROM:+0200
TZOFFSETTO:+0100
TZNAME:CET
DTSTART:20191027T010000
END:STANDARD
BEGIN:DAYLIGHT
TZOFFSETFROM:+0100
TZOFFSETTO:+0200
TZNAME:CEST
DTSTART:20200329T010000
END:DAYLIGHT
BEGIN:STANDARD
TZOFFSETFROM:+0200
TZOFFSETTO:+0100
TZNAME:CET
DTSTART:20201025T010000
END:STANDARD
BEGIN:DAYLIGHT
TZOFFSETFROM:+0100
TZOFFSETTO:+0200
TZNAME:CEST
DTSTART:20210328T010000
END:DAYLIGHT
BEGIN:STANDARD
TZOFFSETFROM:+0200
TZOFFSETTO:+0100
TZNAME:CET
DTSTART:20211031T010000
END:STANDARD
END:VTIMEZONE
BEGIN:VEVENT
DTSTART;VALUE=DATE:20200404
DTEND;VALUE=DATE:20200406
DTSTAMP:20260424T025050
CREATED:20200403T204434Z
LAST-MODIFIED:20200403T204434Z
UID:1364-1585958400-1586131199@www.elc1950.nl
SUMMARY:Veld gesloten ivm corona besluit gemeente Ede
DESCRIPTION:Beste ELC-leden\, \nNatuurmonumenten en Staatsbosbeheer hebben  opgeroepen niet de natuur in te gaan. \nDe gemeente Ede sluit daar bij aan door de parkeerplaatsen langs de hei af te sluiten. \nSamen met de VZG heeft het bestuur besloten dat we een verkeerd signaal afgeven door dan eventueel toch te gaan vliegen. \nDaarom is zaterdag en zondag het veld gesloten en zal de site op rood staan. \n  \nMede namens de andere bestuursleden\,
URL:https://www.elc1950.nl/evenementen/veld-gesloten-ivm-corona-besluit-gemeente-ede/
LOCATION:Vliegveld ELC\, 51.9490051\, 5.8716493 to Vliegveld ELC\, Ginkelseweg\, Ede\, Ede\, Nederland
END:VEVENT
BEGIN:VEVENT
DTSTART;TZID=Europe/Amsterdam:20200418T100000
DTEND;TZID=Europe/Amsterdam:20200418T170000
DTSTAMP:20260424T025050
CREATED:20200217T201603Z
LAST-MODIFIED:20200217T201603Z
UID:1351-1587204000-1587229200@www.elc1950.nl
SUMMARY:Klusdag Bouwlokaal 2020
DESCRIPTION:
URL:https://www.elc1950.nl/evenementen/klusdag-bouwlokaal-2020/
LOCATION:De Cockpit\, Sijsseltselaan 14\, Ede\, 6711 JE\, Nederland
ATTACH;FMTTYPE=image/jpeg:https://www.elc1950.nl/wp-content/uploads/2015/11/klusdag1-e1581970405431.jpg
END:VEVENT
BEGIN:VEVENT
DTSTART;TZID=Europe/Amsterdam:20200424T130000
DTEND;TZID=Europe/Amsterdam:20200430T100000
DTSTAMP:20260424T025050
CREATED:20200210T210004Z
LAST-MODIFIED:20200405T150227Z
UID:1343-1587733200-1588240800@www.elc1950.nl
SUMMARY:Geen Texelkamp in 2020.
DESCRIPTION:Texelkamp 2020 gaat niet door\nAfgelopen dinsdag heeft het kabinet besloten dat alle coronamaatregelen voor alsnog worden verlengd tot en met 28 april.\nDit betekent voor ons helaas\, dat onze geplande week op Texel van 24 t/m 30 april geen doorgang zal kunnen vinden.\nOmdat we dit als bestuur natuurlijk al lang hebben zien aankomen\, zijn we al enige tijd druk bezig met alternatieven.\nDe verwachting is dat een Texelkamp in het najaar van 2020 niet op voldoende animo zal kunnen rekenen.\nHet bestuur heeft daarom besloten dat het Texel-kamp in 2020 definitief niet doorgaat en we uitwijken naar volgend jaar. \n  \nHet aftellen is aangepast naar volgend jaar.\n[ujicountdown id=”Timer1″ expire=”2021/04/30 12:00″ hide=”true” url=”” subscr=”” recurring=”” rectype=”second” repeats=””] \nLocatie wordt dan zoals voor dit jaar gepland was (de Breemhoeve in Hoorn ) maar dan in de periode van 30-4-2021 tot 6-5-2021. \nExacte gegevens volgen pas volgend jaar.
URL:https://www.elc1950.nl/evenementen/texelkamp-2020/
LOCATION:Breemhoeve Texel\, Hemmerweg 22\, Den Hoorn\, 1797 RC\, Nederland
END:VEVENT
END:VCALENDAR