BEGIN:VCALENDAR
VERSION:2.0
PRODID:-//ELC - ECPv6.15.18//NONSGML v1.0//EN
CALSCALE:GREGORIAN
METHOD:PUBLISH
X-WR-CALNAME:ELC
X-ORIGINAL-URL:https://www.elc1950.nl
X-WR-CALDESC:Evenementen voor ELC
REFRESH-INTERVAL;VALUE=DURATION:PT1H
X-Robots-Tag:noindex
X-PUBLISHED-TTL:PT1H
BEGIN:VTIMEZONE
TZID:Europe/Amsterdam
BEGIN:DAYLIGHT
TZOFFSETFROM:+0100
TZOFFSETTO:+0200
TZNAME:CEST
DTSTART:20190331T010000
END:DAYLIGHT
BEGIN:STANDARD
TZOFFSETFROM:+0200
TZOFFSETTO:+0100
TZNAME:CET
DTSTART:20191027T010000
END:STANDARD
BEGIN:DAYLIGHT
TZOFFSETFROM:+0100
TZOFFSETTO:+0200
TZNAME:CEST
DTSTART:20200329T010000
END:DAYLIGHT
BEGIN:STANDARD
TZOFFSETFROM:+0200
TZOFFSETTO:+0100
TZNAME:CET
DTSTART:20201025T010000
END:STANDARD
BEGIN:DAYLIGHT
TZOFFSETFROM:+0100
TZOFFSETTO:+0200
TZNAME:CEST
DTSTART:20210328T010000
END:DAYLIGHT
BEGIN:STANDARD
TZOFFSETFROM:+0200
TZOFFSETTO:+0100
TZNAME:CET
DTSTART:20211031T010000
END:STANDARD
END:VTIMEZONE
BEGIN:VEVENT
DTSTART;TZID=Europe/Amsterdam:20200711T080000
DTEND;TZID=Europe/Amsterdam:20200711T170000
DTSTAMP:20260423T225103
CREATED:20200706T192604Z
LAST-MODIFIED:20200709T131333Z
UID:1400-1594454400-1594486800@www.elc1950.nl
SUMMARY:ELC Elektrozweef reserve datum AFGELAST
DESCRIPTION:Als gevolg van andere acties op de hei op gelijke datum en tijdstip zal deze niet doorgaan.
URL:https://www.elc1950.nl/evenementen/elc-elektrozweef-reserve-datum/
LOCATION:Vliegveld ELC\, 51.9490051\, 5.8716493 to Vliegveld ELC\, Ginkelseweg\, Ede\, Ede\, Nederland
END:VEVENT
END:VCALENDAR